BEGIN:VCALENDAR
VERSION:2.0
PRODID:-//d’Anvers aux Abbesses - ECPv6.15.20//NONSGML v1.0//EN
CALSCALE:GREGORIAN
METHOD:PUBLISH
X-ORIGINAL-URL:https://www.anversauxabbesses.fr
X-WR-CALDESC:Évènements pour d’Anvers aux Abbesses
REFRESH-INTERVAL;VALUE=DURATION:PT1H
X-Robots-Tag:noindex
X-PUBLISHED-TTL:PT1H
BEGIN:VTIMEZONE
TZID:Europe/Paris
BEGIN:DAYLIGHT
TZOFFSETFROM:+0100
TZOFFSETTO:+0200
TZNAME:CEST
DTSTART:20250330T010000
END:DAYLIGHT
BEGIN:STANDARD
TZOFFSETFROM:+0200
TZOFFSETTO:+0100
TZNAME:CET
DTSTART:20251026T010000
END:STANDARD
BEGIN:DAYLIGHT
TZOFFSETFROM:+0100
TZOFFSETTO:+0200
TZNAME:CEST
DTSTART:20260329T010000
END:DAYLIGHT
BEGIN:STANDARD
TZOFFSETFROM:+0200
TZOFFSETTO:+0100
TZNAME:CET
DTSTART:20261025T010000
END:STANDARD
BEGIN:DAYLIGHT
TZOFFSETFROM:+0100
TZOFFSETTO:+0200
TZNAME:CEST
DTSTART:20270328T010000
END:DAYLIGHT
BEGIN:STANDARD
TZOFFSETFROM:+0200
TZOFFSETTO:+0100
TZNAME:CET
DTSTART:20271031T010000
END:STANDARD
END:VTIMEZONE
BEGIN:VEVENT
DTSTART;TZID=Europe/Paris:20260409T190000
DTEND;TZID=Europe/Paris:20260429T190000
DTSTAMP:20260421T162615
CREATED:20260402T104653Z
LAST-MODIFIED:20260406T125350Z
UID:10000176-1775761200-1777489200@www.anversauxabbesses.fr
SUMMARY:Exposition  peinture et gravure "Pris entre deux feux"
DESCRIPTION:
URL:https://www.anversauxabbesses.fr/evenement/exposition-peinture-et-gravure-pris-entre-deux-feux/
LOCATION:Galerie La Moulinette\, 81 bis rue Lepic\, Paris\, Île-de-France\, 75018\, France
CATEGORIES:Exposition
ATTACH;FMTTYPE=image/jpeg:https://www.anversauxabbesses.fr/wp-content/uploads/2026/04/Expo-Carmine.jpg
END:VEVENT
END:VCALENDAR